BEGIN:VCALENDAR
VERSION:2.0
PRODID:-//ChamberMaster//Event Calendar 2.0//EN
METHOD:PUBLISH
X-PUBLISHED-TTL:P3D
REFRESH-INTERVAL:P3D
CALSCALE:GREGORIAN
BEGIN:VEVENT
DTSTART:20170414T160000Z
DTEND:20170414T173000Z
X-MICROSOFT-CDO-ALLDAYEVENT:FALSE
SUMMARY:Silver Pines Annual Easter Egg Hunt
DESCRIPTION:Please bring your children and their Easter basket for a day of fun and excitement. Reada Rabbit will make a guest appearance performing a magic show and making animal balloons at Silver Pines Nursing Home.
X-ALT-DESC;FMTTYPE=text/html:Please bring your children and their Easter basket for a day of fun and excitement. Reada Rabbit will make a guest appearance performing a magic show and making animal balloons at Silver Pines Nursing Home.
LOCATION:Silver Pines Nursing Home 503 Old Bastrop Hwy. Bastrop\, Texas Behind HEB
UID:e.2216.13130
SEQUENCE:3
DTSTAMP:20260424T234243Z
URL:http://bastropchamber.chambermaster.com/events/details/silver-pines-annual-easter-egg-hunt-13130
END:VEVENT

END:VCALENDAR
